BEGIN:VCALENDAR
VERSION:2.0
PRODID:-//Perpetual Real Estate School of South Carolina - ECPv6.15.14//NONSGML v1.0//EN
CALSCALE:GREGORIAN
METHOD:PUBLISH
X-ORIGINAL-URL:https://www.perpetualres.com
X-WR-CALDESC:Events for Perpetual Real Estate School of South Carolina
REFRESH-INTERVAL;VALUE=DURATION:PT1H
X-Robots-Tag:noindex
X-PUBLISHED-TTL:PT1H
BEGIN:VTIMEZONE
TZID:America/New_York
BEGIN:DAYLIGHT
TZOFFSETFROM:-0500
TZOFFSETTO:-0400
TZNAME:EDT
DTSTART:20250309T070000
END:DAYLIGHT
BEGIN:STANDARD
TZOFFSETFROM:-0400
TZOFFSETTO:-0500
TZNAME:EST
DTSTART:20251102T060000
END:STANDARD
BEGIN:DAYLIGHT
TZOFFSETFROM:-0500
TZOFFSETTO:-0400
TZNAME:EDT
DTSTART:20260308T070000
END:DAYLIGHT
BEGIN:STANDARD
TZOFFSETFROM:-0400
TZOFFSETTO:-0500
TZNAME:EST
DTSTART:20261101T060000
END:STANDARD
BEGIN:DAYLIGHT
TZOFFSETFROM:-0500
TZOFFSETTO:-0400
TZNAME:EDT
DTSTART:20270314T070000
END:DAYLIGHT
BEGIN:STANDARD
TZOFFSETFROM:-0400
TZOFFSETTO:-0500
TZNAME:EST
DTSTART:20271107T060000
END:STANDARD
END:VTIMEZONE
BEGIN:VEVENT
DTSTART;TZID=America/New_York:20260511T084500
DTEND;TZID=America/New_York:20260520T164500
DTSTAMP:20260421T180637
CREATED:20260302T155536Z
LAST-MODIFIED:20260302T155536Z
UID:3169-1778489100-1779295500@www.perpetualres.com
SUMMARY:Unit 1 Pre-Licensing DAY (7.5 Days M-F 8:45am – 4:45pm)
DESCRIPTION:Begin your real estate career in less than 8 days. This seventeen sessions course is a paced learning model that prepares prospective agents with the fundamental knowledge to prepare for passage of the state examination. All learning materials\, including the textbook are included in the tuition costs. \nDoes this scheduled class not work for you? CLICK HERE TO ENROLL IN OUR SELF-PACED ONLINE COURSES NOW!  \nReserve your seat in this course for as low as $150 today. Students that elect to reserve their class seat with a deposit\, full balance is due by the first day of class. NOTICE: Click the “+” beside 0 below to begin the registration process.
URL:https://www.perpetualres.com/class/unit-1-pre-licensing-day-7-5-days-m-f-845am-445pm-2/
LOCATION:The Office Centers @ Merovan\, 1200 Woodruff Road\, Ste. A3\, Greenville\, SC\, 29607\, United States
CATEGORIES:Unit 1: Pre-Licensing
ATTACH;FMTTYPE=image/jpeg:https://www.perpetualres.com/wp-content/uploads/2021/10/course-2.jpg
ORGANIZER;CN="Perpetual Real Estate School":MAILTO:perpetual.ressc@gmail.com
END:VEVENT
END:VCALENDAR