BEGIN:VCALENDAR
VERSION:2.0
PRODID:-//Perpetual Real Estate School of South Carolina - ECPv6.15.14//NONSGML v1.0//EN
CALSCALE:GREGORIAN
METHOD:PUBLISH
X-WR-CALNAME:Perpetual Real Estate School of South Carolina
X-ORIGINAL-URL:https://www.perpetualres.com
X-WR-CALDESC:Events for Perpetual Real Estate School of South Carolina
REFRESH-INTERVAL;VALUE=DURATION:PT1H
X-Robots-Tag:noindex
X-PUBLISHED-TTL:PT1H
BEGIN:VTIMEZONE
TZID:America/New_York
BEGIN:DAYLIGHT
TZOFFSETFROM:-0500
TZOFFSETTO:-0400
TZNAME:EDT
DTSTART:20250309T070000
END:DAYLIGHT
BEGIN:STANDARD
TZOFFSETFROM:-0400
TZOFFSETTO:-0500
TZNAME:EST
DTSTART:20251102T060000
END:STANDARD
BEGIN:DAYLIGHT
TZOFFSETFROM:-0500
TZOFFSETTO:-0400
TZNAME:EDT
DTSTART:20260308T070000
END:DAYLIGHT
BEGIN:STANDARD
TZOFFSETFROM:-0400
TZOFFSETTO:-0500
TZNAME:EST
DTSTART:20261101T060000
END:STANDARD
BEGIN:DAYLIGHT
TZOFFSETFROM:-0500
TZOFFSETTO:-0400
TZNAME:EDT
DTSTART:20270314T070000
END:DAYLIGHT
BEGIN:STANDARD
TZOFFSETFROM:-0400
TZOFFSETTO:-0500
TZNAME:EST
DTSTART:20271107T060000
END:STANDARD
END:VTIMEZONE
BEGIN:VEVENT
DTSTART;TZID=America/New_York:20260518T174500
DTEND;TZID=America/New_York:20260602T214500
DTSTAMP:20260421T181134
CREATED:20251204T180051Z
LAST-MODIFIED:20260302T155104Z
UID:3016-1779126300-1780436700@www.perpetualres.com
SUMMARY:Unit 2 Adv. Principles NIGHT (2.5 Weeks Mon\, Tues & Thurs 5:45pm – 9:45pm)
DESCRIPTION:Students who enroll in Unit 2 Advanced Principles have typically completed the Unit 1 Pre-Licensing Course. During this 30 hour course set\, students will learn concepts of the real estate professional’s practice for real-life application in the business. Concepts discussed during these sessions will only be typical simulated practices\, however\, professional practices vary depending on rules set forth by your future Broker-In-Charge. \nCan’t Attend In-Person? TAKE THE SELF-PACED SC ADVANCED PRINCIPLES COURSE ONLINE\, CLICK HERE! \n \nReserve your seat in this course for as low as $150 today. Students that elect to reserve their class seat with a deposit\, full balance is due by the first day of class. NOTICE: Click the “+” beside 0 to begin the registration process.
URL:https://www.perpetualres.com/class/unit-2-adv-principles-night-2-5-weeks-mon-tues-thurs-545pm-945pm-3/
LOCATION:The Office Centers @ Merovan\, 1200 Woodruff Road\, Ste. A3\, Greenville\, SC\, 29607\, United States
CATEGORIES:Unit 2: Advanced Principles
ATTACH;FMTTYPE=image/jpeg:https://www.perpetualres.com/wp-content/uploads/2021/11/19554027_1503604629696112_6643651321043706187_n.jpg
ORGANIZER;CN="Perpetual Real Estate School":MAILTO:perpetual.ressc@gmail.com
END:VEVENT
END:VCALENDAR