BEGIN:VCALENDAR
VERSION:2.0
PRODID:-//Perpetual Real Estate School of South Carolina - ECPv6.15.14//NONSGML v1.0//EN
CALSCALE:GREGORIAN
METHOD:PUBLISH
X-WR-CALNAME:Perpetual Real Estate School of South Carolina
X-ORIGINAL-URL:https://www.perpetualres.com
X-WR-CALDESC:Events for Perpetual Real Estate School of South Carolina
REFRESH-INTERVAL;VALUE=DURATION:PT1H
X-Robots-Tag:noindex
X-PUBLISHED-TTL:PT1H
BEGIN:VTIMEZONE
TZID:America/New_York
BEGIN:DAYLIGHT
TZOFFSETFROM:-0500
TZOFFSETTO:-0400
TZNAME:EDT
DTSTART:20250309T070000
END:DAYLIGHT
BEGIN:STANDARD
TZOFFSETFROM:-0400
TZOFFSETTO:-0500
TZNAME:EST
DTSTART:20251102T060000
END:STANDARD
BEGIN:DAYLIGHT
TZOFFSETFROM:-0500
TZOFFSETTO:-0400
TZNAME:EDT
DTSTART:20260308T070000
END:DAYLIGHT
BEGIN:STANDARD
TZOFFSETFROM:-0400
TZOFFSETTO:-0500
TZNAME:EST
DTSTART:20261101T060000
END:STANDARD
BEGIN:DAYLIGHT
TZOFFSETFROM:-0500
TZOFFSETTO:-0400
TZNAME:EDT
DTSTART:20270314T070000
END:DAYLIGHT
BEGIN:STANDARD
TZOFFSETFROM:-0400
TZOFFSETTO:-0500
TZNAME:EST
DTSTART:20271107T060000
END:STANDARD
END:VTIMEZONE
BEGIN:VEVENT
DTSTART;TZID=America/New_York:20260518T174500
DTEND;TZID=America/New_York:20260602T214500
DTSTAMP:20260421T210742
CREATED:20251204T180051Z
LAST-MODIFIED:20260302T155104Z
UID:3016-1779126300-1780436700@www.perpetualres.com
SUMMARY:Unit 2 Adv. Principles NIGHT (2.5 Weeks Mon\, Tues & Thurs 5:45pm – 9:45pm)
DESCRIPTION:Students who enroll in Unit 2 Advanced Principles have typically completed the Unit 1 Pre-Licensing Course. During this 30 hour course set\, students will learn concepts of the real estate professional’s practice for real-life application in the business. Concepts discussed during these sessions will only be typical simulated practices\, however\, professional practices vary depending on rules set forth by your future Broker-In-Charge. \nCan’t Attend In-Person? TAKE THE SELF-PACED SC ADVANCED PRINCIPLES COURSE ONLINE\, CLICK HERE! \n \nReserve your seat in this course for as low as $150 today. Students that elect to reserve their class seat with a deposit\, full balance is due by the first day of class. NOTICE: Click the “+” beside 0 to begin the registration process.
URL:https://www.perpetualres.com/class/unit-2-adv-principles-night-2-5-weeks-mon-tues-thurs-545pm-945pm-3/
LOCATION:The Office Centers @ Merovan\, 1200 Woodruff Road\, Ste. A3\, Greenville\, SC\, 29607\, United States
CATEGORIES:Unit 2: Advanced Principles
ATTACH;FMTTYPE=image/jpeg:https://www.perpetualres.com/wp-content/uploads/2021/11/19554027_1503604629696112_6643651321043706187_n.jpg
ORGANIZER;CN="Perpetual Real Estate School":MAILTO:perpetual.ressc@gmail.com
END:VEVENT
BEGIN:VEVENT
DTSTART;TZID=America/New_York:20260601T084500
DTEND;TZID=America/New_York:20260610T164500
DTSTAMP:20260421T210742
CREATED:20260302T160801Z
LAST-MODIFIED:20260302T162624Z
UID:3177-1780303500-1781109900@www.perpetualres.com
SUMMARY:Unit 1 Pre-Licensing DAY (7.5 Days M-F 8:45am – 4:45pm)
DESCRIPTION:Begin your real estate career in less than 8 days. This seventeen sessions course is a paced learning model that prepares prospective agents with the fundamental knowledge to prepare for passage of the state examination. All learning materials\, including the textbook are included in the tuition costs. \nDoes this scheduled class not work for you? CLICK HERE TO ENROLL IN OUR SELF-PACED ONLINE COURSES NOW!  \nReserve your seat in this course for as low as $150 today. Students that elect to reserve their class seat with a deposit\, full balance is due by the first day of class. NOTICE: Click the “+” beside 0 below to begin the registration process.
URL:https://www.perpetualres.com/class/unit-1-pre-licensing-day-7-5-days-m-f-845am-445pm-3/
LOCATION:The Office Centers @ Merovan\, 1200 Woodruff Road\, Ste. A3\, Greenville\, SC\, 29607\, United States
CATEGORIES:Unit 1: Pre-Licensing
ATTACH;FMTTYPE=image/jpeg:https://www.perpetualres.com/wp-content/uploads/2021/10/course-2.jpg
ORGANIZER;CN="Perpetual Real Estate School":MAILTO:perpetual.ressc@gmail.com
END:VEVENT
BEGIN:VEVENT
DTSTART;TZID=America/New_York:20260608T174500
DTEND;TZID=America/New_York:20260713T214500
DTSTAMP:20260421T210742
CREATED:20260302T155953Z
LAST-MODIFIED:20260302T155954Z
UID:3173-1780940700-1783979100@www.perpetualres.com
SUMMARY:Unit 1 Pre-Licensing NIGHT (5 Weeks Mon\, Tues\, & Thurs 5:45-9:45pm) *NO CLASS JULY 6th*
DESCRIPTION:Jumpstart your real estate career in 5 weeks! This seventeen sessions course is a paced learning model that prepares prospective agents with the fundamental knowledge to prepare for passage of the state examination. All learning materials\, including the textbook are included in the tuition costs. This course is designed for the working professional – Night Classes! Classes are held on Monday\, Tuesday and Thursday Evenings from 5:45-9:45pm. \nDoes this schedule not work? CLICK HERE TO ENROLL IN OUR SELF-PACED ONLINE COURSES NOW!  \nReserve your seat in this course for as low as $150 today. Students that elect to reserve their class seat with a deposit\, full balance is due by the first day of class. NOTICE: Click the “+” beside 0 below to begin the registration process. \nPLEASE NOTE:  In observance of the July 4th Holiday\, there will be no class on July 6\, 2026.
URL:https://www.perpetualres.com/class/unit-1-pre-licensing-night-5-weeks-mon-tues-thurs-545-945pm-no-class-july-6th/
LOCATION:The Office Centers @ Merovan\, 1200 Woodruff Road\, Ste. A3\, Greenville\, SC\, 29607\, United States
CATEGORIES:Unit 1: Pre-Licensing
ATTACH;FMTTYPE=image/jpeg:https://www.perpetualres.com/wp-content/uploads/2023/04/Unit-1-picture.jpeg
ORGANIZER;CN="Perpetual Real Estate School":MAILTO:perpetual.ressc@gmail.com
END:VEVENT
BEGIN:VEVENT
DTSTART;TZID=America/New_York:20260615T090000
DTEND;TZID=America/New_York:20260618T164500
DTSTAMP:20260421T210742
CREATED:20260302T163136Z
LAST-MODIFIED:20260302T163136Z
UID:3181-1781514000-1781801100@www.perpetualres.com
SUMMARY:Unit 2 Adv. Principles DAY (4 Days M-Th 9:00am – 4:30pm)
DESCRIPTION:Students who enroll in Unit 2 Advanced Principles have typically completed the Unit 1 Pre-Licensing Course. During this 30 hour course set\, students will learn concepts of the real estate professional’s practice for real-life application in the business. Concepts discussed during these sessions will only be typical simulated practices\, however\, professional practices vary depending on rules set forth by your future Broker-In-Charge. \nReserve your seat in this course for as low as $150 today. Students that elect to reserve their class seat with a deposit\, full balance is due by the first day of class. NOTICE: Click the “+” beside 0 to begin the registration process.
URL:https://www.perpetualres.com/class/unit-2-adv-principles-day-4-days-m-th-900am-430pm-2/
LOCATION:The Office Centers @ Merovan\, 1200 Woodruff Road\, Ste. A3\, Greenville\, SC\, 29607\, United States
CATEGORIES:Unit 2: Advanced Principles
ATTACH;FMTTYPE=image/webp:https://www.perpetualres.com/wp-content/uploads/2021/10/course-1.webp
ORGANIZER;CN="Perpetual Real Estate School":MAILTO:perpetual.ressc@gmail.com
END:VEVENT
END:VCALENDAR